BEGIN:VCALENDAR
VERSION:2.0
PRODID:-//One Voice for Volusia - ECPv6.15.20//NONSGML v1.0//EN
CALSCALE:GREGORIAN
METHOD:PUBLISH
X-WR-CALNAME:One Voice for Volusia
X-ORIGINAL-URL:https://onevoiceforvolusia.org
X-WR-CALDESC:Events for One Voice for Volusia
REFRESH-INTERVAL;VALUE=DURATION:PT1H
X-Robots-Tag:noindex
X-PUBLISHED-TTL:PT1H
BEGIN:VTIMEZONE
TZID:UTC
BEGIN:STANDARD
TZOFFSETFROM:+0000
TZOFFSETTO:+0000
TZNAME:UTC
DTSTART:20210101T000000
END:STANDARD
END:VTIMEZONE
BEGIN:VEVENT
DTSTART;TZID=UTC:20221109T090000
DTEND;TZID=UTC:20221109T103000
DTSTAMP:20260421T214754
CREATED:20220108T003645Z
LAST-MODIFIED:20221108T233452Z
UID:3084-1667984400-1667989800@onevoiceforvolusia.org
SUMMARY:One Voice for Volusia Coalition VIRTUALl Meeting - Demo of New Volusia Helps App
DESCRIPTION:The November One Voice for Volusia Coalition meeting will be held virtually; log-in information is listed below. We will hear from Volusia County as they update us on the newly launched app. \nMeeting Information:\nWednesday\, November 9\n9-10:30 a.m.\nVirtual \nPlease join my meeting from your computer\, tablet or smartphone.\nhttps://meet.goto.com/914536141\nYou can also dial in using your phone.\nUnited States: +1 (224) 501-3412\nAccess Code: 914-536-141 \nGet the app now and be ready when your first meeting starts: https://meet.goto.com/install
URL:https://onevoiceforvolusia.org/event/one-voice-for-volusia-coalition-meeting-9/
LOCATION:Department of Health - Volusia\, 1845 Holsonback Drive\, Daytona Beach\, 32117\, United States
END:VEVENT
END:VCALENDAR