BEGIN:VCALENDAR
VERSION:2.0
PRODID:-//One Voice for Volusia - ECPv6.15.20//NONSGML v1.0//EN
CALSCALE:GREGORIAN
METHOD:PUBLISH
X-WR-CALNAME:One Voice for Volusia
X-ORIGINAL-URL:https://onevoiceforvolusia.org
X-WR-CALDESC:Events for One Voice for Volusia
REFRESH-INTERVAL;VALUE=DURATION:PT1H
X-Robots-Tag:noindex
X-PUBLISHED-TTL:PT1H
BEGIN:VTIMEZONE
TZID:UTC
BEGIN:STANDARD
TZOFFSETFROM:+0000
TZOFFSETTO:+0000
TZNAME:UTC
DTSTART:20210101T000000
END:STANDARD
END:VTIMEZONE
BEGIN:VEVENT
DTSTART;TZID=UTC:20221214T090000
DTEND;TZID=UTC:20221214T103000
DTSTAMP:20260421T194026
CREATED:20220108T003721Z
LAST-MODIFIED:20221208T190758Z
UID:3087-1671008400-1671013800@onevoiceforvolusia.org
SUMMARY:One Voice for Volusia Coalition Meeting
DESCRIPTION:One Voice for Volusia invites you to the December Coalition meeting on Wednesday\, December 14 at 9 a.m. We are in a NEW location for this meeting: Piggotte Community Center at 504 Big Tree Road\, South Daytona\, FL 32119. \nThe December coalition meeting is our time to celebrate our members and supporters. We will play trivia and have breakfast treats in appreciation of you. Come ready for a friendly competition and time to network.
URL:https://onevoiceforvolusia.org/event/one-voice-for-volusia-coalition-meeting-10/
LOCATION:Piggotte Community Center\, 504 Big Tree Road\, South Daytona\, FL\, 32119\, United States
END:VEVENT
END:VCALENDAR