BEGIN:VCALENDAR
VERSION:2.0
PRODID:-//One Voice for Volusia - ECPv6.15.20//NONSGML v1.0//EN
CALSCALE:GREGORIAN
METHOD:PUBLISH
X-ORIGINAL-URL:https://onevoiceforvolusia.org
X-WR-CALDESC:Events for One Voice for Volusia
REFRESH-INTERVAL;VALUE=DURATION:PT1H
X-Robots-Tag:noindex
X-PUBLISHED-TTL:PT1H
BEGIN:VTIMEZONE
TZID:UTC
BEGIN:STANDARD
TZOFFSETFROM:+0000
TZOFFSETTO:+0000
TZNAME:UTC
DTSTART:20220101T000000
END:STANDARD
END:VTIMEZONE
BEGIN:VEVENT
DTSTART;TZID=UTC:20230111T090000
DTEND;TZID=UTC:20230111T103000
DTSTAMP:20260421T175720
CREATED:20230104T211923Z
LAST-MODIFIED:20230104T211924Z
UID:3828-1673427600-1673433000@onevoiceforvolusia.org
SUMMARY:One Voice for Volusia Coalition Meeting
DESCRIPTION:Join us for our monthly coalition meeting on Wednesday\, January 11 at 9 a.m. The location is the Piggotte Community Center at 504 Big Tree Rd\, South Daytona\, FL 32119.\n\nPresenters: \n\n 	Marina Anderson\, Northeast and Northwest Regional Human Trafficking Prevention Coordinator at DCF\, will be discussing internet safety and the dangers of social media human trafficking recruitment.\n 	Corry Brown\, Operations Manager for Volusia County Community Services\, will be presenting on the new Volusia Helps app.\n\nMeeting Details:\nWednesday\, January 11\n9-10:30 a.m.\nPiggotte Community Center\n504 Big Tree Rd\, South Daytona\, FL 32119
URL:https://onevoiceforvolusia.org/event/one-voice-for-volusia-coalition-meeting-4/
LOCATION:Piggotte Community Center\, 504 Big Tree Road\, South Daytona\, FL\, 32119\, United States
END:VEVENT
END:VCALENDAR