BEGIN:VCALENDAR
VERSION:2.0
PRODID:-//One Voice for Volusia - ECPv6.15.20//NONSGML v1.0//EN
CALSCALE:GREGORIAN
METHOD:PUBLISH
X-ORIGINAL-URL:https://onevoiceforvolusia.org
X-WR-CALDESC:Events for One Voice for Volusia
REFRESH-INTERVAL;VALUE=DURATION:PT1H
X-Robots-Tag:noindex
X-PUBLISHED-TTL:PT1H
BEGIN:VTIMEZONE
TZID:UTC
BEGIN:STANDARD
TZOFFSETFROM:+0000
TZOFFSETTO:+0000
TZNAME:UTC
DTSTART:20220101T000000
END:STANDARD
END:VTIMEZONE
BEGIN:VEVENT
DTSTART;TZID=UTC:20230208T090000
DTEND;TZID=UTC:20230208T103000
DTSTAMP:20260421T160034
CREATED:20230104T212034Z
LAST-MODIFIED:20230128T020247Z
UID:3832-1675846800-1675852200@onevoiceforvolusia.org
SUMMARY:One Voice for Volusia Coalition Meeting
DESCRIPTION:The One Voice for Volusia Coalition meeting is on Wednesday\, February 8 from 9 to 10:30 a.m. \nThe Coalition meeting is being held at a new location. Join us at Speedway Indoor Karting – 2455 W. International Speedway Blvd.\, Suite 300\, Daytona Beach\, FL 32114. Speedway Indoor Karting is in the same shopping center\, Volusia Square\, as Home Depot. The event space is inside Speedway Indoor Karting. \nMeeting Topic: \nChildren of all abilities are valued members of our community. Easterseals Northeast Central Florida’s Bev Johnson\, CEO\, and Danielle Copello\, Pediatric Navigator\, will discuss their pediatric navigation program and how they proactively support children and families with various needs. The presentation will address background and program information\, and we will connect with one another during an intentional time of networking. \nMeeting Details: \nWednesday\, February 8\n9-10:30 a.m.\nSpeedway Indoor Karting\, 2455 W. International Speedway Blvd.\, Suite 300\, Daytona Beach\, FL 32114
URL:https://onevoiceforvolusia.org/event/one-voice-for-volusia-coalition-meeting-6/
END:VEVENT
END:VCALENDAR