BEGIN:VCALENDAR
VERSION:2.0
PRODID:-//One Voice for Volusia - ECPv6.15.20//NONSGML v1.0//EN
CALSCALE:GREGORIAN
METHOD:PUBLISH
X-WR-CALNAME:One Voice for Volusia
X-ORIGINAL-URL:https://onevoiceforvolusia.org
X-WR-CALDESC:Events for One Voice for Volusia
REFRESH-INTERVAL;VALUE=DURATION:PT1H
X-Robots-Tag:noindex
X-PUBLISHED-TTL:PT1H
BEGIN:VTIMEZONE
TZID:UTC
BEGIN:STANDARD
TZOFFSETFROM:+0000
TZOFFSETTO:+0000
TZNAME:UTC
DTSTART:20220101T000000
END:STANDARD
END:VTIMEZONE
BEGIN:VEVENT
DTSTART;TZID=UTC:20230412T090000
DTEND;TZID=UTC:20230412T103000
DTSTAMP:20260421T115622
CREATED:20230104T212155Z
LAST-MODIFIED:20230331T203249Z
UID:3838-1681290000-1681295400@onevoiceforvolusia.org
SUMMARY:One Voice for Volusia Coalition Meeting
DESCRIPTION:Join One Voice for Volusia for our monthly coalition meeting on Wednesday\, April 12 from 9-10:30 a.m. We will meet at Speedway Indoor Karting (2455 W. International Speedway Blvd.\, Suite 300\, Daytona Beach\, FL 32114). Speedway Indoor Karting is in the same shopping center\, Volusia Square\, as Home Depot. The event space is inside Speedway Indoor Karting. \nMeeting Topic:\nWe will hear from four health-focused entities as they share information on their services and resources and how to connect community members to health support. \n- Care Access \n- Family Health Source \n- Outreach Community Care Network \n- Volusia County Health Department \nMeeting Details:\nWednesday\, April 12\n9-10:30 a.m.\nSpeedway Indoor Karting\, 2455 W. International Speedway Blvd.\, Suite 300\, Daytona Beach\, FL 32114
URL:https://onevoiceforvolusia.org/event/one-voice-for-volusia-coalition-meeting-11/
LOCATION:Speedway Indoor Karting\, 2455 W. International Speedway Blvd. Suite 300\, Daytona Beach\, FL\, 32114\, United States
END:VEVENT
END:VCALENDAR