BEGIN:VCALENDAR
VERSION:2.0
PRODID:-//One Voice for Volusia - ECPv6.15.20//NONSGML v1.0//EN
CALSCALE:GREGORIAN
METHOD:PUBLISH
X-WR-CALNAME:One Voice for Volusia
X-ORIGINAL-URL:https://onevoiceforvolusia.org
X-WR-CALDESC:Events for One Voice for Volusia
REFRESH-INTERVAL;VALUE=DURATION:PT1H
X-Robots-Tag:noindex
X-PUBLISHED-TTL:PT1H
BEGIN:VTIMEZONE
TZID:UTC
BEGIN:STANDARD
TZOFFSETFROM:+0000
TZOFFSETTO:+0000
TZNAME:UTC
DTSTART:20220101T000000
END:STANDARD
END:VTIMEZONE
BEGIN:VEVENT
DTSTART;TZID=UTC:20230518T090000
DTEND;TZID=UTC:20230518T143000
DTSTAMP:20260421T095838
CREATED:20221014T195619Z
LAST-MODIFIED:20230104T212515Z
UID:3692-1684400400-1684420200@onevoiceforvolusia.org
SUMMARY:2023 Health and Human Services Summit
DESCRIPTION:The 2023 Health & Human Services Summit will be held on Thursday\, May 18 from 9 a.m. to 2:30 p.m. at the Daytona Beach Ocean Center\, 101 N. Atlantic Ave.\, Daytona Beach\, Florida.\n\nThe Health & Human Services Summit is for community partners\, agencies\, and service providers to connect with other agencies so that we can create positive impact in Volusia County. The Summit is free to attendees who want to meet exhibitors\, attend trainings\, and network with over 200 partners.\n\nIf your organization would like to exhibit\, please visit 2023HHSSummit.eventbrite.com to register.\n\nPlease contact summit2023@ovfv.org with questions.\n\n 
URL:https://onevoiceforvolusia.org/event/2023-health-and-human-services-summit/
LOCATION:Ocean Center\, 101 N. Atlantic Avenue\, Daytona Beach\, FL\, 32118\, United States
END:VEVENT
END:VCALENDAR