BEGIN:VCALENDAR
VERSION:2.0
PRODID:-//One Voice for Volusia - ECPv6.15.20//NONSGML v1.0//EN
CALSCALE:GREGORIAN
METHOD:PUBLISH
X-ORIGINAL-URL:https://onevoiceforvolusia.org
X-WR-CALDESC:Events for One Voice for Volusia
REFRESH-INTERVAL;VALUE=DURATION:PT1H
X-Robots-Tag:noindex
X-PUBLISHED-TTL:PT1H
BEGIN:VTIMEZONE
TZID:America/New_York
BEGIN:DAYLIGHT
TZOFFSETFROM:-0500
TZOFFSETTO:-0400
TZNAME:EDT
DTSTART:20230312T070000
END:DAYLIGHT
BEGIN:STANDARD
TZOFFSETFROM:-0400
TZOFFSETTO:-0500
TZNAME:EST
DTSTART:20231105T060000
END:STANDARD
BEGIN:DAYLIGHT
TZOFFSETFROM:-0500
TZOFFSETTO:-0400
TZNAME:EDT
DTSTART:20240310T070000
END:DAYLIGHT
BEGIN:STANDARD
TZOFFSETFROM:-0400
TZOFFSETTO:-0500
TZNAME:EST
DTSTART:20241103T060000
END:STANDARD
BEGIN:DAYLIGHT
TZOFFSETFROM:-0500
TZOFFSETTO:-0400
TZNAME:EDT
DTSTART:20250309T070000
END:DAYLIGHT
BEGIN:STANDARD
TZOFFSETFROM:-0400
TZOFFSETTO:-0500
TZNAME:EST
DTSTART:20251102T060000
END:STANDARD
END:VTIMEZONE
BEGIN:VEVENT
DTSTART;TZID=America/New_York:20241001T170000
DTEND;TZID=America/New_York:20241001T200000
DTSTAMP:20260421T083139
CREATED:20240910T191443Z
LAST-MODIFIED:20240910T191952Z
UID:5050-1727802000-1727812800@onevoiceforvolusia.org
SUMMARY:National Night Out: Daytona Beach
DESCRIPTION:The Daytona Beach Police Department presents National Night Out. Join DBPD as they promote crime prevention\, police-community partnerships and neighborhood camaraderie. Free family fun for all! Free food\, bounce houses\, music and line dancing\, face painting\, raffles\, K-9 demo\, police vehicle tours\, drone demo\, children's fingerprinting\, and vendor tables. \n\nTuesday\, October 1\n5-8 p.m.\nJackie Robinson Ballpark (105 E. Orange Ave.)\n\nJoin Us for National... - Daytona Beach Police Department | Facebook \n 
URL:https://onevoiceforvolusia.org/event/national-night-out-daytona-beach/
LOCATION:Jackie Robinson Stadium\, 110 E. Orange Avenue\, Daytona Beach\, 32114\, 110 E. Orange Avenue\, Daytona Beach\, FL\, 32114
END:VEVENT
BEGIN:VEVENT
DTSTART;TZID=America/New_York:20241001T173000
DTEND;TZID=America/New_York:20241001T193000
DTSTAMP:20260421T083139
CREATED:20240910T191751Z
LAST-MODIFIED:20240910T191751Z
UID:5052-1727803800-1727811000@onevoiceforvolusia.org
SUMMARY:National Night Out: Holly Hill
DESCRIPTION:Join Holly Hill Police Department for National Night Out! DJ\, bouncy houses\, games\, raffle prizes\, and free hot dogs and ice cream while supplies last. \n\nTuesday\, October 1\n5:30-7:30 p.m.\nHolly Hill City Hall (1065 Ridgewood Ave. Holly Hill\, FL)\n\nPolice Event - National Night Out 2024 | Holly Hill FL
URL:https://onevoiceforvolusia.org/event/national-night-out-holly-hill/
LOCATION:Holly Hill City Hall\, 1065 Ridgewood Ave.\, Holly Hill\, FL\, United States
END:VEVENT
BEGIN:VEVENT
DTSTART;TZID=America/New_York:20241009T090000
DTEND;TZID=America/New_York:20241009T103000
DTSTAMP:20260421T083139
CREATED:20240808T164050Z
LAST-MODIFIED:20241007T175038Z
UID:4961-1728464400-1728469800@onevoiceforvolusia.org
SUMMARY:CANCELED: One Voice for Volusia Coalition Meeting
DESCRIPTION:DUE TO THE IMPENDING HURRICANE\, THE OCTOBER COALITION MEETING HAS BEEN CANCELED.\nJoin One Voice for Volusia for our October Coalition meeting in acknowledgment of Domestic Violence Awareness Month (DVAM). Kirsten Pindar\, CEO of the Domestic Abuse Council (DAC)\, and Trish Giaccone\, CEO of Family Life Center\, will present on DVAM to raise community awareness around domestic violence and systems of support. We will hold a Q&A with Kirsten and Trish and then open the floor to hear from providers who provide support and serve as allies. \n\nMeeting Details:Wednesday\, October 99-10:30 a.m.Piggotte Center (504 Big Tree Road\, South Daytona\, FL 32119)Overflow parking is available at corner of James and Aurora Streets.
URL:https://onevoiceforvolusia.org/event/one-voice-for-volusia-coalition-meeting-21/
END:VEVENT
END:VCALENDAR