BEGIN:VCALENDAR
VERSION:2.0
PRODID:-//One Voice for Volusia - ECPv6.15.20//NONSGML v1.0//EN
CALSCALE:GREGORIAN
METHOD:PUBLISH
X-WR-CALNAME:One Voice for Volusia
X-ORIGINAL-URL:https://onevoiceforvolusia.org
X-WR-CALDESC:Events for One Voice for Volusia
REFRESH-INTERVAL;VALUE=DURATION:PT1H
X-Robots-Tag:noindex
X-PUBLISHED-TTL:PT1H
BEGIN:VTIMEZONE
TZID:America/New_York
BEGIN:DAYLIGHT
TZOFFSETFROM:-0500
TZOFFSETTO:-0400
TZNAME:EDT
DTSTART:20240310T070000
END:DAYLIGHT
BEGIN:STANDARD
TZOFFSETFROM:-0400
TZOFFSETTO:-0500
TZNAME:EST
DTSTART:20241103T060000
END:STANDARD
BEGIN:DAYLIGHT
TZOFFSETFROM:-0500
TZOFFSETTO:-0400
TZNAME:EDT
DTSTART:20250309T070000
END:DAYLIGHT
BEGIN:STANDARD
TZOFFSETFROM:-0400
TZOFFSETTO:-0500
TZNAME:EST
DTSTART:20251102T060000
END:STANDARD
BEGIN:DAYLIGHT
TZOFFSETFROM:-0500
TZOFFSETTO:-0400
TZNAME:EDT
DTSTART:20260308T070000
END:DAYLIGHT
BEGIN:STANDARD
TZOFFSETFROM:-0400
TZOFFSETTO:-0500
TZNAME:EST
DTSTART:20261101T060000
END:STANDARD
END:VTIMEZONE
BEGIN:VEVENT
DTSTART;TZID=America/New_York:20250108T090000
DTEND;TZID=America/New_York:20250108T103000
DTSTAMP:20260421T134400
CREATED:20240808T164443Z
LAST-MODIFIED:20250107T144845Z
UID:4967-1736326800-1736332200@onevoiceforvolusia.org
SUMMARY:One Voice for Volusia Coalition Meeting - National Human Trafficking Prevention Month
DESCRIPTION:In acknowledgment of National Human Trafficking Prevention Month\, Marina Anderson\, Statewide Human Trafficking Training Specialist from the Florida Department of Children and Families\, will provide an engaging presentation and conversation around the topic. \nJoin us at a new location: The Salvation Army in Daytona Beach. \nMeeting Details:\nWednesday\, January 8\, 2025\n9-10:30 a.m.\nSalvation Army (1555 LPGA Boulevard\, Daytona Beach\, FL 32117)
URL:https://onevoiceforvolusia.org/event/one-voice-for-volusia-coalition-meeting-24/
LOCATION:The Salvation Army Daytona Beach\, 1555 LPGA Boulevard\, Daytona Beach\, FL\, 32117\, United States
END:VEVENT
END:VCALENDAR