BEGIN:VCALENDAR
VERSION:2.0
PRODID:-//One Voice for Volusia - ECPv6.15.20//NONSGML v1.0//EN
CALSCALE:GREGORIAN
METHOD:PUBLISH
X-ORIGINAL-URL:https://onevoiceforvolusia.org
X-WR-CALDESC:Events for One Voice for Volusia
REFRESH-INTERVAL;VALUE=DURATION:PT1H
X-Robots-Tag:noindex
X-PUBLISHED-TTL:PT1H
BEGIN:VTIMEZONE
TZID:America/New_York
BEGIN:DAYLIGHT
TZOFFSETFROM:-0500
TZOFFSETTO:-0400
TZNAME:EDT
DTSTART:20240310T070000
END:DAYLIGHT
BEGIN:STANDARD
TZOFFSETFROM:-0400
TZOFFSETTO:-0500
TZNAME:EST
DTSTART:20241103T060000
END:STANDARD
BEGIN:DAYLIGHT
TZOFFSETFROM:-0500
TZOFFSETTO:-0400
TZNAME:EDT
DTSTART:20250309T070000
END:DAYLIGHT
BEGIN:STANDARD
TZOFFSETFROM:-0400
TZOFFSETTO:-0500
TZNAME:EST
DTSTART:20251102T060000
END:STANDARD
BEGIN:DAYLIGHT
TZOFFSETFROM:-0500
TZOFFSETTO:-0400
TZNAME:EDT
DTSTART:20260308T070000
END:DAYLIGHT
BEGIN:STANDARD
TZOFFSETFROM:-0400
TZOFFSETTO:-0500
TZNAME:EST
DTSTART:20261101T060000
END:STANDARD
END:VTIMEZONE
BEGIN:VEVENT
DTSTART;TZID=America/New_York:20250611T090000
DTEND;TZID=America/New_York:20250611T103000
DTSTAMP:20260421T231019
CREATED:20240808T165551Z
LAST-MODIFIED:20250602T144305Z
UID:4975-1749632400-1749637800@onevoiceforvolusia.org
SUMMARY:One Voice for Volusia Coalition Meeting
DESCRIPTION:The Spotlight is on You: Share your Organization’s Info at the June One Voice for Volusia Coalition Meeting \nJoin us at the June 11 Coalition meeting as organizations will have the opportunity to give a 30-second overview of their services. We can learn about other agencies\, have a better understanding of what they offer\, and know how we can connect with them. \nThe format is simple: \n\nThe organization/agency will have 30 seconds to give a “commercial” which can include an overview of services\, upcoming activities\, and how the group can support. Consider providing information on how to refer to services\, volunteer\, participate\, build awareness\, etc.\nOne representative from each organization/agency can speak but must keep the limited time in mind as there will be a timer to keep us on track.\nThe session will end promptly at 10:30 a.m.\nIf we run out of time for folks to speak\, agencies can email us a short paragraph description of what they want to share\, which we will include in the follow-up email.\nThere is no need to bring a slide deck\, and the Network Zone will be open to distribute materials.\n\nMeeting Details:\nWednesday\, June 11\n9-10:30 a.m.\nThe Salvation Army\, 1555 LPGA Blvd. Daytona Beach\, FL 32117 \nSee you on June 11 for our spotlight meeting!
URL:https://onevoiceforvolusia.org/event/one-voice-for-volusia-coalition-meeting-28/
END:VEVENT
END:VCALENDAR