BEGIN:VCALENDAR
VERSION:2.0
PRODID:-//One Voice for Volusia - ECPv6.15.20//NONSGML v1.0//EN
CALSCALE:GREGORIAN
METHOD:PUBLISH
X-ORIGINAL-URL:https://onevoiceforvolusia.org
X-WR-CALDESC:Events for One Voice for Volusia
REFRESH-INTERVAL;VALUE=DURATION:PT1H
X-Robots-Tag:noindex
X-PUBLISHED-TTL:PT1H
BEGIN:VTIMEZONE
TZID:America/New_York
BEGIN:DAYLIGHT
TZOFFSETFROM:-0500
TZOFFSETTO:-0400
TZNAME:EDT
DTSTART:20240310T070000
END:DAYLIGHT
BEGIN:STANDARD
TZOFFSETFROM:-0400
TZOFFSETTO:-0500
TZNAME:EST
DTSTART:20241103T060000
END:STANDARD
BEGIN:DAYLIGHT
TZOFFSETFROM:-0500
TZOFFSETTO:-0400
TZNAME:EDT
DTSTART:20250309T070000
END:DAYLIGHT
BEGIN:STANDARD
TZOFFSETFROM:-0400
TZOFFSETTO:-0500
TZNAME:EST
DTSTART:20251102T060000
END:STANDARD
BEGIN:DAYLIGHT
TZOFFSETFROM:-0500
TZOFFSETTO:-0400
TZNAME:EDT
DTSTART:20260308T070000
END:DAYLIGHT
BEGIN:STANDARD
TZOFFSETFROM:-0400
TZOFFSETTO:-0500
TZNAME:EST
DTSTART:20261101T060000
END:STANDARD
END:VTIMEZONE
BEGIN:VEVENT
DTSTART;TZID=America/New_York:20250910T090000
DTEND;TZID=America/New_York:20250910T103000
DTSTAMP:20260422T043518
CREATED:20250903T152801Z
LAST-MODIFIED:20250903T152801Z
UID:5709-1757494800-1757500200@onevoiceforvolusia.org
SUMMARY:One Voice for Volusia Coalition Meeting
DESCRIPTION:Join One Voice for Volusia and YES at the September Coalition Meeting! \nLindsey Babcock\, LMHC\, and Rose Meeske\, co founder\, will share the story of YES and the resounding impact their efforts have had on the community\, including the advocacy of comprehensive training and community-wide awareness and how you can take part in The Check on a Friend campaign.\n\nMeeting Details\nWednesday\, September 10\, 2025\n9-10:30 a.m.\nDepartment of Health\, 1845 Holsonback Drive\, Daytona Beach\, FL 32117
URL:https://onevoiceforvolusia.org/event/one-voice-for-volusia-coalition-meeting-29/
LOCATION:Department of Health - Volusia\, 1845 Holsonback Drive\, Daytona Beach\, 32117\, United States
END:VEVENT
BEGIN:VEVENT
DTSTART;TZID=America/New_York:20250920T110000
DTEND;TZID=America/New_York:20250920T120000
DTSTAMP:20260422T043518
CREATED:20250915T172628Z
LAST-MODIFIED:20250915T172628Z
UID:5730-1758366000-1758369600@onevoiceforvolusia.org
SUMMARY:Youth Impact Network Meeting
DESCRIPTION:High School Students – This is YOUR moment! \nJoin us for the Youth Impact Network Virtual Meeting — a brand-new student-led group where YOUR voice shapes youth initiatives in our community. \nWhy join? \n\nBe a Founding Member of YIN\nWin prizes\nBuild leadership skills\nEarn community service hours\nAdd this experience to your resume\nConnect with other student leaders\n\nDate: Saturday\, September 20\, 2025\nTime: 11 AM - 12 PM\nWhere: Zoom \nDon’t miss your chance to be part of something BIG from the very beginning. \nInterested? Fill out this form to stay in the loop
URL:https://onevoiceforvolusia.org/event/youth-impact-network-meeting/
END:VEVENT
END:VCALENDAR