BEGIN:VCALENDAR
VERSION:2.0
PRODID:-//One Voice for Volusia - ECPv6.15.20//NONSGML v1.0//EN
CALSCALE:GREGORIAN
METHOD:PUBLISH
X-ORIGINAL-URL:https://onevoiceforvolusia.org
X-WR-CALDESC:Events for One Voice for Volusia
REFRESH-INTERVAL;VALUE=DURATION:PT1H
X-Robots-Tag:noindex
X-PUBLISHED-TTL:PT1H
BEGIN:VTIMEZONE
TZID:America/New_York
BEGIN:DAYLIGHT
TZOFFSETFROM:-0500
TZOFFSETTO:-0400
TZNAME:EDT
DTSTART:20240310T070000
END:DAYLIGHT
BEGIN:STANDARD
TZOFFSETFROM:-0400
TZOFFSETTO:-0500
TZNAME:EST
DTSTART:20241103T060000
END:STANDARD
BEGIN:DAYLIGHT
TZOFFSETFROM:-0500
TZOFFSETTO:-0400
TZNAME:EDT
DTSTART:20250309T070000
END:DAYLIGHT
BEGIN:STANDARD
TZOFFSETFROM:-0400
TZOFFSETTO:-0500
TZNAME:EST
DTSTART:20251102T060000
END:STANDARD
BEGIN:DAYLIGHT
TZOFFSETFROM:-0500
TZOFFSETTO:-0400
TZNAME:EDT
DTSTART:20260308T070000
END:DAYLIGHT
BEGIN:STANDARD
TZOFFSETFROM:-0400
TZOFFSETTO:-0500
TZNAME:EST
DTSTART:20261101T060000
END:STANDARD
END:VTIMEZONE
BEGIN:VEVENT
DTSTART;TZID=America/New_York:20251112T090000
DTEND;TZID=America/New_York:20251112T110000
DTSTAMP:20260423T070704
CREATED:20250925T153359Z
LAST-MODIFIED:20251104T211948Z
UID:5751-1762938000-1762945200@onevoiceforvolusia.org
SUMMARY:One Voice for Volusia Coalition Meeting
DESCRIPTION:PLEASE NOTE: THIS MONTH'S COALITION MEETING HAS BEEN MOVED TO A NEW LOCATION. SEE DETAILS BELOW.\nWe’re mixing things up this month — join us on Wednesday\, November 12\, from 9–11 AM at the News-Journal Center (Gillespy Theater) for a special training opportunity featuring Laura Holley with the Community Coalition Alliance. \nThis session will explore Motivational Interviewing\, a collaborative approach that helps individuals uncover their own motivation and strengths to identify solutions that work for them. Participants will learn techniques rooted in empathy that empower clients to find their own reasons for change and set meaningful personal goals. \nCEUs will be available (must be present for the entire training) \nNo registration required – simply arrive before 9 AM to check in and find your seat.\nNew Location: News-Journal Center\, Gillespy Theater (221 N Beach Street\, Daytona Beach)\nMeeting Time is Extended: 9–11 AM \nThis training is open to all. We look forward to seeing you there! \n 
URL:https://onevoiceforvolusia.org/event/ovfv-coalition-meeting-11/
LOCATION:News-Journal Center (Gillespy Theater)\, 221 N Beach Street\, Daytona Beach\, 32114\, United States
END:VEVENT
END:VCALENDAR